BEGIN:VCALENDAR
VERSION:2.0
PRODID:-//ICAR - ECPv6.15.17//NONSGML v1.0//EN
CALSCALE:GREGORIAN
METHOD:PUBLISH
X-ORIGINAL-URL:https://icar.cnrs.fr
X-WR-CALDESC:Évènements pour ICAR
REFRESH-INTERVAL;VALUE=DURATION:PT1H
X-Robots-Tag:noindex
X-PUBLISHED-TTL:PT1H
BEGIN:VTIMEZONE
TZID:UTC
BEGIN:STANDARD
TZOFFSETFROM:+0000
TZOFFSETTO:+0000
TZNAME:UTC
DTSTART:20220101T000000
END:STANDARD
END:VTIMEZONE
BEGIN:VEVENT
DTSTART;TZID=UTC:20230717T140000
DTEND;TZID=UTC:20230721T180000
DTSTAMP:20260420T075159
CREATED:20230615T115523Z
LAST-MODIFIED:20230615T115809Z
UID:10888-1689602400-1689962400@icar.cnrs.fr
SUMMARY:World Congress of Applied Linguistics - AILA 2023 (co-org. ICAR)
DESCRIPTION:L’Association française de linguistique appliquée – AFLA co-organise aux côtés d’ICAR\, le Congrès international de l’Association internationale de linguistique appliquée – AILA 2023 qui se tiendra du 17 au 21 juillet\, à Lyon\, en modalité hybride. Ce sera l’occasion de fêter le 20e congrès de l’AILA mais aussi\, avec un an d’avance\, les 60 ans de l’AFLA\, née en 1964. \nThème du congrès 2023 : Diversité et cohésion sociale dans un monde globalisé : vers des sciences du langage plus engagées \nProgramme : \n\ngénéral : https://aila2023.fr/program-at-a-glance/\nliste des symposiums : https://aila2023.sciencesconf.org/\n\nContact : aila2023@sciencesconf.org\nEn savoir plus : consulter le site Web du Congrès
URL:https://icar.cnrs.fr/agenda/world-congress-of-applied-linguistics-aila-2023-co-org-icar/
END:VEVENT
END:VCALENDAR