BEGIN:VCALENDAR
VERSION:2.0
PRODID:-//ICAR - ECPv6.15.17//NONSGML v1.0//EN
CALSCALE:GREGORIAN
METHOD:PUBLISH
X-ORIGINAL-URL:https://icar.cnrs.fr
X-WR-CALDESC:Évènements pour ICAR
REFRESH-INTERVAL;VALUE=DURATION:PT1H
X-Robots-Tag:noindex
X-PUBLISHED-TTL:PT1H
BEGIN:VTIMEZONE
TZID:UTC
BEGIN:STANDARD
TZOFFSETFROM:+0000
TZOFFSETTO:+0000
TZNAME:UTC
DTSTART:20220101T000000
END:STANDARD
END:VTIMEZONE
BEGIN:VEVENT
DTSTART;TZID=UTC:20230828T090000
DTEND;TZID=UTC:20230901T163000
DTSTAMP:20260420T075203
CREATED:20230303T105030Z
LAST-MODIFIED:20230628T122448Z
UID:9969-1693213200-1693585800@icar.cnrs.fr
SUMMARY:École d’été ECODIC « Corpus et Didactique » 2023
DESCRIPTION:Nos collègues d’ICAR Carole Etienne et Heike Baldauf-Quilliatre co-organisent\, aux côtés de Virginie André et Maud Ciekanski (université de Lorraine\, ATLIF)\, une nouvelle édition de l’école d’été ECODIC\, qui se déroulera du 28 août au 1er septembre 2023\, dans les locaux de l’ENS de Lyon. \nIntitulé complet : Corpus et Didactique – Intégrer des corpus oraux et multimodaux d’interactions à l’enseignement du français langue étrangère (FLE) pour apprendre à interagir \nL’école ECODIC s’adresse aux étudiant.es\, doctorant.es\, post-doctorant.es\, chercheur.es en didactique mais également aux enseignant.es de français et aux formateur.trices. \nCette école d’été propose une formation innovante afin de permettre aux participant·es d’appréhender les enjeux de l’intégration des corpus oraux et multimodaux d’interactions dans le domaine de la formation linguistique\, d’apprendre à les manipuler d’un point de vue technique et informatique mais également de les inscrire dans des séquences pédagogiques pour différents types de public\, quel que soit leur niveau ou leur nature (professionnel·les\, migrant·es\, étudiant·es\, interprètes\, langue première et étrangère). \nPour y parvenir\, ECODIC bénéficie d’un large réseau de chercheur·es en didactique et d’enseignant·es\, en France et dans les départements de français à l’étranger\, impliqué·es dans une variété d’enseignements. \nLes corpus oraux et multimodaux sont enregistrés in situ dans des situations sociales privées ou professionnelles de notre quotidien : entre ami·es\, en famille\, dans des commerces\, en réunion\, en visite\, lors de repas\, au téléphone\, dans des débats… \nLe programme alterne des présentations et les retours d’expérience des différent·es intervenant·es avec des travaux dirigés. Les après-midis\, un créneau de 2h sera réservé à votre propre projet\, selon vos attentes\, que vous réaliserez en groupe avec les conseils des formateur·trices. Une restitution de ces projets en fin d’école vous permettra d’échanger avec l’ensemble des intervenant·es. \nDans cette session 2023\, la dernière journée sera consacrée aux réunions de travail\, peu documentées à ce jour dans les méthodes de langue. \nCandidature : le dossier\, constitué d’un seul fichier contenant CV (de 1 à 3 pages) et lettre de motivation\, est à soumettre via le site Web du colloque (accès authentifié)\, avant le 23 juin 18h. \nContact : ecodic2023@sciencesconf.orgEn savoir plus : consulter le site Web de l’école d’été
URL:https://icar.cnrs.fr/agenda/ecole-dete-ecodic-corpus-et-didactique-2023/
END:VEVENT
END:VCALENDAR