BEGIN:VCALENDAR
VERSION:2.0
PRODID:-//ICAR - ECPv6.15.17//NONSGML v1.0//EN
CALSCALE:GREGORIAN
METHOD:PUBLISH
X-WR-CALNAME:ICAR
X-ORIGINAL-URL:https://icar.cnrs.fr
X-WR-CALDESC:Évènements pour ICAR
REFRESH-INTERVAL;VALUE=DURATION:PT1H
X-Robots-Tag:noindex
X-PUBLISHED-TTL:PT1H
BEGIN:VTIMEZONE
TZID:UTC
BEGIN:STANDARD
TZOFFSETFROM:+0000
TZOFFSETTO:+0000
TZNAME:UTC
DTSTART:20220101T000000
END:STANDARD
END:VTIMEZONE
BEGIN:VEVENT
DTSTART;TZID=UTC:20230913T103000
DTEND;TZID=UTC:20230913T120000
DTSTAMP:20260420T025638
CREATED:20230908T150628Z
LAST-MODIFIED:20230908T150628Z
UID:11072-1694601000-1694606400@icar.cnrs.fr
SUMMARY:Prochaine séance du séminaire de l'axe transversal "Subjectivité et Langage" d'ICAR
DESCRIPTION:L’axe transversal Subjectivité et Langage d’ICAR organise sa première séance de séminaire de l’année 2023-2024. Son invitée en sera notre collègue Emmanuelle Prak-Derrington\, maîtresse de conférences HDR en linguistique allemande. \nIntitulé : Je et tu. De la subjectivité à la subjectivation dans le langage \nL’étude de la subjectivité dans le langage peut se faire selon une approche extensive ou une approche restreinte. Pour la première\, le concept de subjectivité renvoie\, comme dans l’acception courante\, à la qualité de ce qui est subjectif\, et peut être rapproché des opérationsd’évaluation et de modalisation. Dans cette perspective\, « la subjectivité langagière est partout\, mais diversement modulée selon les énoncés » (Kerbrat–Orecchioni 1980\, 170). Il s’agit de mettre au jour la multiplicité des formes par lesquelles la subjectivité s’inscrit dans le langage\,des plus évidentes à celles implicites et cachées. \nL’approche restreinte en revanche\, celle de Benveniste\, se concentre sur « l’appareil formel de l’énonciation » (1974) : les déictiques ou marqueurs indexicaux. La subjectivité est définie de manière philosophique comme « la capacité du locuteur à se poser comme sujet » (Benveniste 1966\, 255). Cette capacité présuppose\, non pas l’inscription\, mais l’appropriation de l’énonciation. Le couple je–tu est appréhendé comme condition d’émergence et fondement de la subjectivité (la corrélation de subjectivité)\, dont la troisième personne se trouve exclue comme « non–personne ». \nA l’instar de Benveniste\, je restreins l’étude de la subjectivité à des marqueurs primaires et me concentrerai ici sur la personne grammaticale\, dont il n’est pas possible d’exclure la troisième personne. Il s’agit de mettre en regard les fonctions respectives des déictiques (je et tu) et des anaphoriques (il\, elle) dans la manière dont les sujets se construisent dans et par le langage. Je propose de nommer « subjectivation » le processus actif de (se) poser comme sujet dans le langage\, et de différencier entre subjectivation sociale (doing subjects) et subjectivation individuelle (becoming subject). En mettant en exergue les emplois de ce que j’appelle « la troisième personne interlocutive » (spécialement dans la deixis sociale et l’adresse indirecte)\, je défendrai l’hypothèse d’une fonction de subjectivation sociale assumée par la troisième personne\, par opposition à je et tu qui renvoient à une subjectivation individuelle. En m’inspirant de la Sprachtheorie de Karl Bühler (1934)\, je montrerai par ailleurs que seuls je et tu fonctionnent comme marqueurs d’appropriation\, plus précisément\, comme marqueurs d’incarnation. La deixis est la porte par laquelle le corps des sujets entre dans le langage. \nLa séance se déroulera en mode hybride mercredi 13 septembre 2023\, de 10h30 à 12h\, en salle D4.180 (anciennement R174) de l’ENS de Lyon\, site Descartes. \nLe lien de connexion a été transmis via la liste de diffusion d’ASLAN\, le 6 septembre 2023. \nContact : Didier Bottineau\, Emmanuelle Prak-Derrington et Matthieu Quignard\nEn savoir plus : présentation complète de la séance disponible en pièce jointe
URL:https://icar.cnrs.fr/agenda/prochaine-seance-du-seminaire-de-laxe-transversal-subjectivite-et-langage-dicar/
END:VEVENT
BEGIN:VEVENT
DTSTART;TZID=UTC:20230913T150000
DTEND;TZID=UTC:20230913T190000
DTSTAMP:20260420T025638
CREATED:20230623T153054Z
LAST-MODIFIED:20230623T153054Z
UID:10932-1694617200-1694631600@icar.cnrs.fr
SUMMARY:Dixième séance du séminaire ADATIC
DESCRIPTION:La dernière séance du séminaire ADATIC : Apprentissage\, Didactique\, Autonomie\, Technologie de l’Information et de Communication de l’édition 2022-2023 est organisée mercredi 13 septembre 2023\, de 15h à 19h\, en modalité hybride. \nProgramme : \n\n 15h – 15h30 : Ouverture du séminaire par Jean–Claude Régnier ;\n15h30 – 18h30 : Présentation des communications qui seront exposées à la Biennale 2023. Discussions ;\n18h30 – 19h00 : Le point sur l’avancée des textes rédigés des communications au Colloque AREF 2022 à Lausanne en vue du dépôt sur le site HAL. \n\n\nLa séance se déroulera dans les locaux de la MSH LSE (14 avenue Berthelot – 69007 Lyon)\, en salle André Frossard et en visioconférence (lien de connexion diffusé avant la séance). \nContact : Jean-Claude Régnier\nEn savoir plus : présentation complète de la séance disponible en pièce jointe
URL:https://icar.cnrs.fr/agenda/dixieme-seance-du-seminaire-adatic/
END:VEVENT
END:VCALENDAR