BEGIN:VCALENDAR
VERSION:2.0
PRODID:-//ICAR - ECPv6.15.17//NONSGML v1.0//EN
CALSCALE:GREGORIAN
METHOD:PUBLISH
X-ORIGINAL-URL:https://icar.cnrs.fr
X-WR-CALDESC:Évènements pour ICAR
REFRESH-INTERVAL;VALUE=DURATION:PT1H
X-Robots-Tag:noindex
X-PUBLISHED-TTL:PT1H
BEGIN:VTIMEZONE
TZID:UTC
BEGIN:STANDARD
TZOFFSETFROM:+0000
TZOFFSETTO:+0000
TZNAME:UTC
DTSTART:20220101T000000
END:STANDARD
END:VTIMEZONE
BEGIN:VEVENT
DTSTART;TZID=UTC:20230928T140000
DTEND;TZID=UTC:20230928T153000
DTSTAMP:20260420T075157
CREATED:20230915T101611Z
LAST-MODIFIED:20230921T131232Z
UID:11121-1695909600-1695915000@icar.cnrs.fr
SUMMARY:MODIFICATION : Prochaine conférence du cycle « Extraction\, traitement et visualisation de données complexes en géographie (XVIIIe – XIXe siècle) »
DESCRIPTION:Attention : changement du lieu de déroulement. \nNotre collègue Denis Vigier coordonne la troisième édition du cycle de conférences Extraction\, traitement et visualisation de données complexes en géographie (XVIIIe siècle – XIXe siècle)\, organisées à l’ENS de Lyon et financées par l’Institut Rhônalpin des systèmes Complexes (IXXI). Il est adossé au projet GEODE du LabEx ASLAN. \nLa première séance 2023-2024 est en lien avec les thématiques : TAL et SIG. \nIntervenant.e.s : Ian Gregory (Lancaster University) et des membres du Space Time Narratives Project. \nIntitulé de l’intervention : Space Time Narratives: Understanding imprecise space and time in narratives through qualitative representations\, reasoning\, and visualisation. \n\nPrevious approaches to understanding geographies in textual sources tend to focus on geoparsing to automatically identify place names and allocate them to coordinates. Such methods are highly quantitative and are limited to named places for which coordinates can be found\, and have little concept of time. Yet\, as narratives of journeys make abundantly clear\, human experiences of geography are often subjective and more suited to qualitative representation. In these cases\, « geography » is not limited to named places; rather\, it incorporates the vague\, imprecise\, and ambiguous\, with references to\, for example\, « the camp »\, or « the hills in the distance »\, and includes the relative locations using terms such as « near to »\, « on the left »\, « north of » or « a few hours’ journey from ». \n\n\n\nLa séance se déroulera en mode hybride le jeudi 28 septembre 2023\, de 14h à 15h30\, sur site à l’INSA Lyon\, Bâtiment Ada Lovelace\, 3e étage\, salle 501.3.01 (20 av. Albert Einstein – 69100 Villeurbanne) et en visioconférence. \nInscription nécessaire (participation sur site ou à distance)\, via le formulaire en ligne suivant. \n\n\n\nEn savoir plus : consulter la page Web du séminaire
URL:https://icar.cnrs.fr/agenda/prochaine-conference-du-cycle-extraction-traitement-et-visualisation-de-donnees-complexes-en-geographie-xviiie-xixe-siecle/
END:VEVENT
END:VCALENDAR