BEGIN:VCALENDAR
VERSION:2.0
PRODID:-//ICAR - ECPv6.15.17//NONSGML v1.0//EN
CALSCALE:GREGORIAN
METHOD:PUBLISH
X-ORIGINAL-URL:https://icar.cnrs.fr
X-WR-CALDESC:Évènements pour ICAR
REFRESH-INTERVAL;VALUE=DURATION:PT1H
X-Robots-Tag:noindex
X-PUBLISHED-TTL:PT1H
BEGIN:VTIMEZONE
TZID:UTC
BEGIN:STANDARD
TZOFFSETFROM:+0000
TZOFFSETTO:+0000
TZNAME:UTC
DTSTART:20220101T000000
END:STANDARD
END:VTIMEZONE
BEGIN:VEVENT
DTSTART;TZID=UTC:20231003T113000
DTEND;TZID=UTC:20231003T133000
DTSTAMP:20260420T075159
CREATED:20230921T093743Z
LAST-MODIFIED:20230921T130931Z
UID:11157-1696332600-1696339800@icar.cnrs.fr
SUMMARY:Prochain atelier de l'axe transversal "Langage\, Travail\, Apprentissage"
DESCRIPTION:Le prochain atelier de l’axe transversal d’ICAR Langage\, Travail\, Apprentissage est organisé en mode hybride et ouvert à tous les membres du laboratoire.\n \nIntitulé : Réflexions sur la création de ressources pour l’enseignement-apprentissage à partir du projet Interfare  \nInvitée : Carole Etienne (IR CNRS\, ICAR). \nAprès avoir présenté les objectifs du projet Interfare\, Interagir plus facilement en réunion de travail\,  l’atelier mettra l’accent sur les ressources qui ont été conçues et réalisées à partir de réunions de travail écologiques. En complément de 250 extraits audio/vidéo\, de leur transcription et d’explications\, le projet propose 90 activités multimédias pour apprendre à écouter et à voir comment se déroule réellement une réunion de travail en contexte\, en mettant l’accent sur la variété des pratiques et l’implicite. \nDans le cadre de l’axe LTA\, nous aimerions partager nos réflexions sur la conception et la mise à disposition de cette plateforme dans différents contextes d’enseignement\, et plus généralement\, s’interroger sur les limites de la transposition de nos résultats de recherche afin de répondre aux besoins des enseignants. \nhttp://icar.cnrs.fr/interfare/ \n L’atelier se déroulera le mardi 3 octobre 2023\, de 11h30 à 13h30\, en salle D4.179 des locaux d’ICAR et en ligne via l’outil Zoom. Le lien de connexion a été transmis par Justine Lascar via les listes de diffusion du laboratoire\, le mardi 19 septembre.\n \nLe déjeuner est offert par le laboratoire (plateau repas ou sandwich). Merci de vous inscrire en cas de participation sur site\, via le formulaire en ligne suivant. \nContact : Patricia Lambert\, Justine Lascar et Karine Bécu-Robinault
URL:https://icar.cnrs.fr/agenda/prochain-atelier-de-laxe-transversal-langage-travail-apprentissage-03-10-2023/
END:VEVENT
END:VCALENDAR