BEGIN:VCALENDAR
VERSION:2.0
PRODID:-//ICAR - ECPv6.15.17//NONSGML v1.0//EN
CALSCALE:GREGORIAN
METHOD:PUBLISH
X-ORIGINAL-URL:https://icar.cnrs.fr
X-WR-CALDESC:Évènements pour ICAR
REFRESH-INTERVAL;VALUE=DURATION:PT1H
X-Robots-Tag:noindex
X-PUBLISHED-TTL:PT1H
BEGIN:VTIMEZONE
TZID:UTC
BEGIN:STANDARD
TZOFFSETFROM:+0000
TZOFFSETTO:+0000
TZNAME:UTC
DTSTART:20220101T000000
END:STANDARD
END:VTIMEZONE
BEGIN:VEVENT
DTSTART;TZID=UTC:20231120T130000
DTEND;TZID=UTC:20231120T150000
DTSTAMP:20260420T075158
CREATED:20231115T152500Z
LAST-MODIFIED:20231115T152556Z
UID:11394-1700485200-1700492400@icar.cnrs.fr
SUMMARY:Prochaine séance du séminaire de l'équipe "Interactions\, Cognitions"
DESCRIPTION:La prochaine séance du séminaire de l’équipe Interactions\, Cognitions aura pour intervenant Vincent Berry\, maître de conférences en sociologie (université Paris 13\, EXPERICE). \n \nIntitulé de l’intervention : Loisir\, jeu et éducation \nLa séance est organisée lundi 20 novembre 2023\, à partir de 13h\, en salle D4.179 des locaux d’ICAR et via l’outil Zoom-CNRS. \nLe lien de connexion a été diffusé via les listes du laboratoire le mercredi 15 novembre. \nContact : Heike Baldauf
URL:https://icar.cnrs.fr/agenda/prochaine-seance-du-seminaire-de-lequipe-interactions-cognitions/
END:VEVENT
END:VCALENDAR