BEGIN:VCALENDAR
VERSION:2.0
PRODID:-//ICAR - ECPv6.15.17//NONSGML v1.0//EN
CALSCALE:GREGORIAN
METHOD:PUBLISH
X-ORIGINAL-URL:https://icar.cnrs.fr
X-WR-CALDESC:Évènements pour ICAR
REFRESH-INTERVAL;VALUE=DURATION:PT1H
X-Robots-Tag:noindex
X-PUBLISHED-TTL:PT1H
BEGIN:VTIMEZONE
TZID:UTC
BEGIN:STANDARD
TZOFFSETFROM:+0000
TZOFFSETTO:+0000
TZNAME:UTC
DTSTART:20220101T000000
END:STANDARD
END:VTIMEZONE
BEGIN:VEVENT
DTSTART;TZID=UTC:20231123T080000
DTEND;TZID=UTC:20231125T170000
DTSTAMP:20260420T075158
CREATED:20231031T133421Z
LAST-MODIFIED:20231031T133421Z
UID:11330-1700726400-1700931600@icar.cnrs.fr
SUMMARY:Congrès RANACLES 2023
DESCRIPTION:Nos collègues membres d’ICAR Emilie Magnat et Sophie Dufour (MCF\, université Lumière Lyon 2) co-organisent le Congrès du Rassemblement national des Centres de langues de l’enseignement supérieur-RANACLES 2023. Il se déroulera du 23 au 25 novembre 2023 à l’ENS de Lyon (amphithéâtre et atrium Mérieux). \nIntitulé : Transition(s) dans et pour les Centres de langues et de ressources en langues \nLors du congrès 2022 dont la thématique portait sur l’avenir des Centres de Langues (CL) et Centre de Ressources en Langues (CRL) ainsi que leur place dans les politiques linguistiques des établissements d’enseignement supérieur\, la question de la transition ou des transition(s) s’est posée. L’édition 2023 du Congrès Ranacles s’intéressera donc plus particulièrement à cette notion dans sa complexité en didactique des langues-cultures. \nNouvelle date limite d’inscription : 15 novembre 2023\, via  le formulaire en ligne dédié . \nContact : ranacles2023@sciencesconf.orgEn savoir plus : consulter le site Web du congrès
URL:https://icar.cnrs.fr/agenda/congres-ranacles-2023/
END:VEVENT
END:VCALENDAR