BEGIN:VCALENDAR
VERSION:2.0
PRODID:-//ICAR - ECPv6.15.17//NONSGML v1.0//EN
CALSCALE:GREGORIAN
METHOD:PUBLISH
X-ORIGINAL-URL:https://icar.cnrs.fr
X-WR-CALDESC:Évènements pour ICAR
REFRESH-INTERVAL;VALUE=DURATION:PT1H
X-Robots-Tag:noindex
X-PUBLISHED-TTL:PT1H
BEGIN:VTIMEZONE
TZID:UTC
BEGIN:STANDARD
TZOFFSETFROM:+0000
TZOFFSETTO:+0000
TZNAME:UTC
DTSTART:20220101T000000
END:STANDARD
END:VTIMEZONE
BEGIN:VEVENT
DTSTART;TZID=UTC:20231127T130000
DTEND;TZID=UTC:20231127T150000
DTSTAMP:20260420T075157
CREATED:20231115T161521Z
LAST-MODIFIED:20231115T161521Z
UID:11405-1701090000-1701097200@icar.cnrs.fr
SUMMARY:Prochaine séance du séminaire de l'équipe "Interactions\, Cognitions"
DESCRIPTION:La seconde séance de novembre du séminaire de l’équipe Interactions\, Cognitions aura pour intervenant.e.s Maria Pia Bucci\, chargée de recherche CNRS en neurosciences et Frédéric Isel\, professeur de neurolinguistique (université Paris Nanterre)\, tous deux membres du laboratoire MODYCO. \nLeur intervention se déroulera en deux temps : \n\nMaria Pia Bucci : Déficit visuo-attentionnel et phonologique chez les sujets dyslexiques ;\n\nFrédéric Isel : Quand l’oculométrie rencontre l’électroencéphalographie pour étudier les causes multifactorielles de la dyslexie développementale : Vers une recherche fondamentale orientée. \n\n\nLa séance est organisée lundi 27 novembre 2023\, à partir de 13h\, en salle D4.179 des locaux d’ICAR et via l’outil Zoom-CNRS. \nLe lien de connexion a été diffusé via les listes du laboratoire le mercredi 15 novembre. \nContact : Heike Baldauf
URL:https://icar.cnrs.fr/agenda/prochaine-seance-du-seminaire-de-lequipe-interactions-cognitions-2/
END:VEVENT
END:VCALENDAR