BEGIN:VCALENDAR
VERSION:2.0
PRODID:-//ICAR - ECPv6.15.17//NONSGML v1.0//EN
CALSCALE:GREGORIAN
METHOD:PUBLISH
X-WR-CALNAME:ICAR
X-ORIGINAL-URL:https://icar.cnrs.fr
X-WR-CALDESC:Évènements pour ICAR
REFRESH-INTERVAL;VALUE=DURATION:PT1H
X-Robots-Tag:noindex
X-PUBLISHED-TTL:PT1H
BEGIN:VTIMEZONE
TZID:UTC
BEGIN:STANDARD
TZOFFSETFROM:+0000
TZOFFSETTO:+0000
TZNAME:UTC
DTSTART:20220101T000000
END:STANDARD
END:VTIMEZONE
BEGIN:VEVENT
DTSTART;TZID=UTC:20231003T113000
DTEND;TZID=UTC:20231003T133000
DTSTAMP:20260420T025640
CREATED:20230921T093743Z
LAST-MODIFIED:20230921T130931Z
UID:11157-1696332600-1696339800@icar.cnrs.fr
SUMMARY:Prochain atelier de l'axe transversal "Langage\, Travail\, Apprentissage"
DESCRIPTION:Le prochain atelier de l’axe transversal d’ICAR Langage\, Travail\, Apprentissage est organisé en mode hybride et ouvert à tous les membres du laboratoire.\n \nIntitulé : Réflexions sur la création de ressources pour l’enseignement-apprentissage à partir du projet Interfare  \nInvitée : Carole Etienne (IR CNRS\, ICAR). \nAprès avoir présenté les objectifs du projet Interfare\, Interagir plus facilement en réunion de travail\,  l’atelier mettra l’accent sur les ressources qui ont été conçues et réalisées à partir de réunions de travail écologiques. En complément de 250 extraits audio/vidéo\, de leur transcription et d’explications\, le projet propose 90 activités multimédias pour apprendre à écouter et à voir comment se déroule réellement une réunion de travail en contexte\, en mettant l’accent sur la variété des pratiques et l’implicite. \nDans le cadre de l’axe LTA\, nous aimerions partager nos réflexions sur la conception et la mise à disposition de cette plateforme dans différents contextes d’enseignement\, et plus généralement\, s’interroger sur les limites de la transposition de nos résultats de recherche afin de répondre aux besoins des enseignants. \nhttp://icar.cnrs.fr/interfare/ \n L’atelier se déroulera le mardi 3 octobre 2023\, de 11h30 à 13h30\, en salle D4.179 des locaux d’ICAR et en ligne via l’outil Zoom. Le lien de connexion a été transmis par Justine Lascar via les listes de diffusion du laboratoire\, le mardi 19 septembre.\n \nLe déjeuner est offert par le laboratoire (plateau repas ou sandwich). Merci de vous inscrire en cas de participation sur site\, via le formulaire en ligne suivant. \nContact : Patricia Lambert\, Justine Lascar et Karine Bécu-Robinault
URL:https://icar.cnrs.fr/agenda/prochain-atelier-de-laxe-transversal-langage-travail-apprentissage-03-10-2023/
END:VEVENT
BEGIN:VEVENT
DTSTART;TZID=UTC:20231005T130000
DTEND;TZID=UTC:20231005T143000
DTSTAMP:20260420T025640
CREATED:20230914T120112Z
LAST-MODIFIED:20230914T120112Z
UID:11107-1696510800-1696516200@icar.cnrs.fr
SUMMARY:Prochaine "Rencontre méthodo" d'ICAR
DESCRIPTION:La Cellule Corpus Ingénierie Audiovisuelle (CIA) d’ICAR invite à la première séance 2023-2024 de ses Rencontres méthodo. \nNos collègues Louis Maritaud et Lucien Tisserand présenteront quelques outils informatiques qu’ils utilisent ou ont développé dans le cadre de leur travail. \nAu programme\, une présentation des outils liés à l’analyse des données\, avec des outils de représentations globales du corpus du type timeline ou encore des scripts de séquençage et d’anonymisation de vidéos\, de création de gifs… par exemple pour créer facilement des collections. \nSeront également présentés des outils pour la visualisation et la présentation de vos données et de vos résultats\, comme le format de fichier de sous-titres Advanced SubStation Alpha permettant une grande liberté de personnalisation (placement et colorisation selon les acteurs\, les types de phénomènes\, la gestion des chevauchements….) depuis un export ELAN\, mais aussi la préparation de vos communications en PDF (meilleure inter-opérabilité) pour les présenter de façon paradoxalement plus dynamique avec le logiciel Impressive ou PDF Presenter Console. \nAu-delà\, il s’agira de discuter de la scriptabilité des différentes manipulations sur vos données dès lors que vous avez le sentiment de réaliser la même opération de façon répétitive. \nLa séance aura lieu le jeudi 5 octobre 2023\, de 13h à 14h30\, en mode hybride : en salle D4.179 et en visioconférence. \nL’inscription est nécessaire via le formulaire en ligne suivant. \nContact : Louis Maritaud
URL:https://icar.cnrs.fr/agenda/prochaine-rencontre-methodo-dicar/
END:VEVENT
BEGIN:VEVENT
DTSTART;TZID=UTC:20231011T180000
DTEND;TZID=UTC:20231011T200000
DTSTAMP:20260420T025640
CREATED:20230921T122230Z
LAST-MODIFIED:20230921T130920Z
UID:11169-1697047200-1697054400@icar.cnrs.fr
SUMMARY:ConfApéro en sciences du langage : Monica Heller
DESCRIPTION:Dans le cadre du cycle 2023-2024 des « ConfApéros en sciences du langage » organisées à l’ENS de Lyon\, ICAR invite\, en collaboration avec ENS Editions\, Monica Heller\, linguiste et anthropologue\, professeure à l’université de Toronto (Canada). \nIntitulé de l’intervention : Éléments d’une sociolinguistique critique\, 20 ans plus tard : chronique d’une réédition \nOrganisation : I. Colón de Carvajal\, P. Lambert\, E. Prak-Derrington\, avec la collaboration de M. Coste. \nLa conférence (filmée et mise en ligne sous forme de podcast) se déroulera le mercredi 11 octobre 2023\, de 18h à 20h\, en salle commune de l’ENS de Lyon (site Descartes\, bâtiment du restaurant CROUS ). Elle sera suivie d’un débat et d’un moment d’échange convivial. \nEntrée libre\, dans la limite des places disponibles. \nContact : Isabel Colón de CarvajalEn savoir plus :  programmation du premier semestre disponible sur la page Web dédiée
URL:https://icar.cnrs.fr/agenda/confapero-en-sciences-du-langage-monica-heller-11-10-2023/
END:VEVENT
BEGIN:VEVENT
DTSTART;TZID=UTC:20231013T093000
DTEND;TZID=UTC:20231013T173000
DTSTAMP:20260420T025640
CREATED:20230928T101420Z
LAST-MODIFIED:20230928T102319Z
UID:11212-1697189400-1697218200@icar.cnrs.fr
SUMMARY:Groupe IMPEC : J.E. "Les contextes numériques hybrides de travail : l’exemple d’un colloque scientifique"
DESCRIPTION:Le Groupe IMPEC\, spécialisé dans la recherche sur les interactions par écran\, organise une journée d’étude dans le cadre du projet COLHYBRI (Colloque HYBRIde)\, financé par le LabEx ASLAN\, qui s’est fixé pour objectif d’étudier les phénomènes d’hybridation de la communication dans un colloque scientifique par le biais de l’expérience des participants. \nIntitulé : Les contextes numériques hybrides de travail : l’exemple d’un colloque scientifique \nLa journée d’études a pour but de rendre compte des analyses du projet et de faire dialoguer notre recherche avec des chercheur·e·s impliqué·e·s dans les axes thématiques retenus. \nProgramme :  \n9h30 : Accueil café\n10h00-10h15 : Ouverture : Christine Develotte et Jean-François Grassin\, ICAR\n10h15-10h30 : Présentation du corpus Marco Cappellini et Christelle Combe\, LPL\n10h30-10h45 : Hybridité Jean-François Grassin\, ICAR\n10h45-11h15 : Réponse de Daniel Peraya\, TECFA\, Université de Genève\n11h15-12h : Discussion\nRepas libre\n14h-14h20 : Care technique\, Joséphine Rémon\, ICAR\n14h20-14h50 : Réponse de Pascale Molinier\, UTRPP\, Université Sorbonne Paris Nord\n14h50-15h30 : Discussion\n15h30-16h : Pause\n16h-16h20 : Design de la recherche\n16h20-16h50 : Réponse de Sébastien Augier\, ELLIADD\, Université de Franche-Comté\n16h50-17h30 : Discussion \nLa journée d’étude se déroulera en modalité hybride le vendredi 13 octobre 2023\, à la fois dans les locaux de l’ENS de Lyon\, site Buisson (IFÉ) (19 allée de Fontenay – 69007 Lyon)\, en salle D8.006 et en visioconférence. \nL’inscription est nécessaire auprès de jean-francois.grassin@univ-lyon2.fr\, quel que soit le mode de participation choisi. \nContact : Jean-François Grassin\nEn savoir plus : programme détaillé disponible sur la page Web dédiée
URL:https://icar.cnrs.fr/agenda/groupe-impec-j-e-les-contextes-numeriques-hybrides-de-travail-lexemple-dun-colloque-scientifique/
END:VEVENT
END:VCALENDAR