BEGIN:VCALENDAR
VERSION:2.0
PRODID:-//ICAR - ECPv6.15.17//NONSGML v1.0//EN
CALSCALE:GREGORIAN
METHOD:PUBLISH
X-ORIGINAL-URL:https://icar.cnrs.fr
X-WR-CALDESC:Évènements pour ICAR
REFRESH-INTERVAL;VALUE=DURATION:PT1H
X-Robots-Tag:noindex
X-PUBLISHED-TTL:PT1H
BEGIN:VTIMEZONE
TZID:UTC
BEGIN:STANDARD
TZOFFSETFROM:+0000
TZOFFSETTO:+0000
TZNAME:UTC
DTSTART:20220101T000000
END:STANDARD
END:VTIMEZONE
BEGIN:VEVENT
DTSTART;TZID=UTC:20231201T150000
DTEND;TZID=UTC:20231201T173000
DTSTAMP:20260420T075203
CREATED:20231115T145456Z
LAST-MODIFIED:20231115T145456Z
UID:11387-1701442800-1701451800@icar.cnrs.fr
SUMMARY:Prochaine séance du séminaire IMPEC
DESCRIPTION:Le séminaire IMPEC (Intéractions Multimodales Par Écran) est depuis 2021 un séminaire interlaboratoire et itinérant. IMPEC accueille des chercheur.e.s de différentes disciplines : sciences du langage\, sciences de l’éducation\, sciences cognitives\, sciences de l’information et de la communication\, psychologie\, sociologie\, et des doctorant.e.s qui centrent leur objet de recherche sur les interactions par écran. \nPour sa prochaine séance\, IMPEC invite Michaël Bourgatte\, professeur en sciences de l’information et de la communication à l’Institut catholique de Paris (laboratoire Religion\, Culture et Société\, EA 7403).\n \nIntitulé de l’intervention : Empowerment et annotation audiovisuelle \nLe Consortium CNRS Huma-Num pour l’annotation\, l’analyse et l’archive de la vidéo appliquées aux activités scientifiques (CANEVAS) a été labellisé en 2022. Son objectif est d’instrumenter les recherches en SHS autour de corpus vidéo en facilitant des actions telles que : annoter\, commenter\, analyser\, fouiller\, partager\, archiver des corpus vidéo. Ce consortium est un espace de rencontres et de collaborations\, mais aussi d’expérimentations et de développements technologiques devant aboutir au déploiement d’outils et de services comme Celluloid\, plateforme d’annotation audiovisuelle en ligne. L’objectif est d’encapaciter les chercheuses et les chercheurs venant de divers horizons scientifiques (information-communication\, sociologie\, études cinématographiques…)\, mais mobilisant toutes et tous des corpus vidéo. Pour cette séance de séminaire\, Michaël Bourgatte reviendra sur cette dimension spécifique de son parcours qui s’inscrit dans une dynamique de recherche orientée conception. Il mettra en lumière l’intérêt de cette méthode\, mais aussi ses points aveugles. \nLa conférence se déroulera en visioconférence\, le vendredi 1er décembre 2023\, à15h. \nLe lien de connexion est transmis sur demande auprès de : jean-francois.grassin@univ-lyon2.fr \n\nContact : peppe.cavallari@gmail.com\nEn savoir plus : consulter la page Web dédiée
URL:https://icar.cnrs.fr/agenda/prochaine-seance-du-seminaire-impec/
END:VEVENT
BEGIN:VEVENT
DTSTART;TZID=UTC:20231204T103000
DTEND;TZID=UTC:20231204T130000
DTSTAMP:20260420T075203
CREATED:20231115T170602Z
LAST-MODIFIED:20231130T104435Z
UID:11422-1701685800-1701694800@icar.cnrs.fr
SUMMARY:Lancement du séminaire transversal d'ICAR
DESCRIPTION:ICAR promeut une nouvelle série de rencontres centrées sur les différentes expériences médiées par les langages et vécues en relation avec des langues et des environnements de plus en plus complexes du fait de la multiplication des médiations sémiotiques et numériques. \nLes rencontres seront ouvertes à une participation à distance et enregistrées\, afin de constituer un corpus réexploitable\, par exemple avec des finalités de formation interne à l’unité des recherches. Le programme sera composé par des séances de 2h30 avec une cadence mensuelle\, normalement le lundi ou le jeudi matin. \nIntitulé de ce nouveau séminaire transversal : Environnements sémiotiques/numériques et expériences linguistiques. Rencontres de proximité transdisciplinaire\n \nLa première séance est organisée lundi 4 décembre 2023\, de 10h30 à 13h\, en salle D4.179 et en visioconférence via l’outil Zoom-CNRS. \nIntitulé de la première séance : Entente et conflictualité : expérience et rhétorique de l’intégration \nIntervenant.e.s : \n\nMarc Debono (université de Tours – EA 4428 DYNADIV)\nPenser l’expérience en sciences humaines et sociales : une réflexion à partir de la sociolinguistique et de la didactique des langues ;\n\nMarie Veniard (université Paris Cité – EA 4071 Laboratoire EDA)\nFaire éthique par le langage\, une approche discursive : entre histoire\, contradictions et pratiques.\n\nContact : Pierluigi Basso et Isabel Colón de CarvajalEn savoir plus : calendrier provisoire\, résumé des séances et liens de connexion disponibles dans le document en pièce jointe.
URL:https://icar.cnrs.fr/agenda/lancement-du-seminaire-transversal-dicar/
END:VEVENT
BEGIN:VEVENT
DTSTART;TZID=UTC:20231204T140000
DTEND;TZID=UTC:20231204T153000
DTSTAMP:20260420T075203
CREATED:20231109T103229Z
LAST-MODIFIED:20231109T104917Z
UID:11357-1701698400-1701703800@icar.cnrs.fr
SUMMARY:Prochaine conférence du cycle « Extraction\, traitement et visualisation de données complexes en géographie (XVIIIe – XIXe siècle) »
DESCRIPTION:Notre collègue Denis Vigier coordonne la troisième édition du cycle de conférences Extraction\, traitement et visualisation de données complexes en géographie (XVIIIe siècle – XIXe siècle)\, organisées à l’ENS de Lyon et financées par l’Institut Rhônalpin des systèmes Complexes (IXXI). Il est adossé au projet GEODE du LabEx ASLAN. \nLa prochaine séance est en lien avec la thématique : linguistique des discours\, traitement automatique des langues. \nIntervenante : Ioanna Galleron\, professeure en langue et littérature françaises à l’université Sorbonne Nouvelle-Paris 3\, membre du laboratoire LaTTiCe. \nIntitulé de l’intervention : BASNUM: réussites et échecs \n\nLe projet ANR BASNUM\, qui vient de prendre fin en juin 2023\, a été consacré à la numérisation (océrisation et annotation xml-TEI) du Dictionnaire universel\, dans la version de 1701. Entrepris avec l’aide de Transkribus et de GROBID-Dictionnaries\, ce projet a rempli une partie de ses objectifs\, atteint d’autres\, qui n’étaient pas prévus\, mais aussi resté en-deçà des espoirs sur d’autres aspects. Parmi ces derniers on compte l’identification\, la désambiguïsation et la gestion des entités nommées. En lien avec la thématique du séminaire\, après une présentation générale du projet\, il sera question des difficultés posées par les EN de type « lieu »\, et plus largement par la définition du domaine « géographie » tel que couvert par le DU de Basnage de Beauval. \n\n\n\nLa séance se déroulera en mode hybride le lundi 4 décembre 2023\, de 14h à 15h30\, dans les locaux de l’ICAR à l’ENS de Lyon\, en salle D4. 179 et en visioconférence. \nInscription nécessaire (participation sur site ou à distance)\, via le formulaire en ligne suivant. \n\n\n\nEn savoir plus : consulter la page Web du séminaire
URL:https://icar.cnrs.fr/agenda/prochaine-conference-du-cycle-extraction-traitement-et-visualisation-de-donnees-complexes-en-geographie-xviiie-xixe-siecle-2/
END:VEVENT
BEGIN:VEVENT
DTSTART;TZID=UTC:20231205T130000
DTEND;TZID=UTC:20231205T140000
DTSTAMP:20260420T075203
CREATED:20231019T121245Z
LAST-MODIFIED:20231019T121335Z
UID:11275-1701781200-1701784800@icar.cnrs.fr
SUMMARY:Groupe de travail EDI (équité\, Diversité et Inclusion) d'ICAR : Première séance de séminaire
DESCRIPTION:Le groupe de travail EDI (Équité\, Diversité et Inclusion) vous convie à sa première séance de séminaire.\n\nPour rappel\, ce groupe s’est donné pour mission de rendre visible son engagement sur des questions traitant des inégalités en mettant en place un groupe de réflexion sur cette thématique. Inégalités d’âge\, économiques\, de genre\, linguistiques\, raciales\, de santé & handicap ou encore socio-professionnelles sont autant de sujets qui pourront être discutés\, tout en pouvant également traiter de leurs impacts et leurs manifestations dans les milieux éducatifs\, professionnels\, culturels et de la santé.\n\n\n\nIntervenante : Isabelle Vauglin\, présidente de l’association Femmes et Sciences.\n\nIntitulé de l’intervention : Egalité dans l’Enseignement Supérieur et la Recherche: où en est-on ?\n\nLes institutions de l’ESR affichent une volonté d’égalité Femmes/Hommes et se sont données des objectifs pour l’atteindre. Nous ferons un petit bilan pour voir où en est réellement l’égalité F/H dans notre monde de la recherche et quelle est la fragilité ou la robustesse des acquis.\n\n\nLa séance se déroulera le mardi 5 décembre 2023\, de 13h à 14h\, en salle D4.179 des locaux d’ICAR.\n\nContact : Audrey Mazur
URL:https://icar.cnrs.fr/agenda/groupe-de-travail-edi-equite-diversite-et-inclusion-dicar-premiere-seance-de-seminaire-05-12-2023/
END:VEVENT
BEGIN:VEVENT
DTSTART;TZID=UTC:20231205T180000
DTEND;TZID=UTC:20231205T200000
DTSTAMP:20260420T075203
CREATED:20231130T104154Z
LAST-MODIFIED:20231130T104154Z
UID:11453-1701799200-1701806400@icar.cnrs.fr
SUMMARY:ConfApéro en sciences du langage : Agnès Steuckardt
DESCRIPTION:Dans le cadre du cycle 2023-2024 des « ConfApéros en sciences du langage » organisées à l’ENS de Lyon\, ICAR invite\, en collaboration avec La Clé des Langues\, Agnès Steuckardt\, professeure des universités à l’université Paul-Valéry Montpellier 3\, laboratoire Praxiling. \n \nIntitulé de l’intervention : Peut-on s’écrire sans orthographe ? L’exemple de correspondances peu-lettrées de la Grande Guerre \nLe débat sur l’orthographe française est récemment revenu sur la scène médiatique\, avec la tribune intitulée « Il est urgent de mettre à jour notre orthographe »\, signée par le collectif des « linguistes atterrées » ainsi que plusieurs personnalités\, publiée dans Le Monde du 17 octobre 2023. On ne cherchera pas ici à prendre parti pour ou contre une réforme d’une orthographe institutionnelle : on s’intéressera à l’orthographe qui se pratique au quotidien\, aujourd’hui dans les forums et les réseaux sociaux\, hier dans les correspondances privées des gens ordinaires.Le « Corpus 14 »\, constitué au moment de la Grande collecte de 2014\, rassemble plus de 2000 lettres échangées entre les Poilus et leur famille pendant la Grande Guerre et permet d’observer à grande échelle leurs usages graphiques : segmentations (je tembrasse\, je ten brasse\, je t’embrasse)\, terminaisons verbales (Tous les soldats devait venir en permission)\, variantes graphiques (Tranchées\, tranchés\, tranchers\, tranches\, tranchais\, trenchée\, tran chées). Comment ces formes sont-elles produites par les épistoliers ? Comment leurs proches les reçoivent-ils ? En s’appuyant sur les commentaires métalinguistiques des épistoliers\, ou leur absence\, on se demandera si\, dans une communication sans enjeu d’ordre administratif professionnel ou institutionnel\, on ne peut pas se passer d’orthographe. \nOrganisation : I. Colón de Carvajal\, P. Lambert\, E. Prak-Derrington\, avec la collaboration de M. Coste. \nLa conférence (filmée et mise en ligne sous forme de podcast) se déroulera le mercredi 5 décembre 2023\, de 18h à 20h\,  à l’ENS de Lyon\, site Descartes\, en salle D2.128. Elle sera suivie d’un débat et d’un moment d’échange convivial et gourmand. \nEntrée libre\, dans la limite des places disponibles. \nContact : emmanuelle.prak-derrington@ens-lyon.frEn savoir plus :  programmation du premier semestre disponible sur la page Web dédiée
URL:https://icar.cnrs.fr/agenda/confapero-en-sciences-du-langage-agnes-steuckardt/
END:VEVENT
BEGIN:VEVENT
DTSTART;TZID=UTC:20231206T103000
DTEND;TZID=UTC:20231206T123000
DTSTAMP:20260420T075203
CREATED:20231123T154417Z
LAST-MODIFIED:20231123T154417Z
UID:11439-1701858600-1701865800@icar.cnrs.fr
SUMMARY:Prochaine séance du séminaire de l'axe transversal "Subjectivité et Langage" d'ICAR
DESCRIPTION:L’axe transversal Subjectivité et Langage d’ICAR organise sa deuxième séance de séminaire de l’année 2023-2024. Son invitée en sera Agnès Steuckardt\, professeure à l’université Montpellier 3\, laboratoire Praxiling. \nIntitulé de l’intervention : Routines épistolaires\, routines personnelles chez des scripteurs peu-lettrés de la Première Guerre mondiale \nL’« appareil formulaire »\, si caractéristique de la tradition épistolaire lettrée\, est aussi ce qui frappe d’emblée dans les correspondances de scripteurs peu-lettrés\, comme le souligne l’ethnologue Daniel Fabre dans Par écrit (1997). Ces formules rituelles\, transmises de génération en génération\, qui ouvrent et ferment la lettre\, constituent-elles seulement des seuils entre lesquels peut se dire un discours moins formaté et plus personnel ? On propose d’examiner ici comment des scripteurs peu-lettrés de la Première Guerre mondiale inscrivent\, à l’intérieur même des « formules » l’expression d’une subjectivité. En continuité avec les études déjà menées sur Corpus 14 (Große et alii\, 2016 ; Steuckardt et alii\, 2020 ; Steuckardt et alii\, 2022 https://eac.ac/publications/9782813004352)\, on mettra en évidence ces variations dans les formules d’ouverture et de clôture. On s’intéressera plus spécifiquement au marqueur introductif je te dirai\, situé à la jonction entre ouverture et corps de la lettre\, et à ses variantes. \nLa séance se déroulera mercredi 6 décembre 2023\, de 10h30 à 12h30 (horaire de démarrage pour les membres de l’axe : 10h)\, en salle D4-179 des locaux d’ICAR. \nContact : Emmanuelle Prak-Derrington et Matthieu Quignard
URL:https://icar.cnrs.fr/agenda/prochaine-seance-du-seminaire-de-laxe-transversal-subjectivite-et-langage-dicar-2/
END:VEVENT
BEGIN:VEVENT
DTSTART;TZID=UTC:20231207T150000
DTEND;TZID=UTC:20231207T170000
DTSTAMP:20260420T075203
CREATED:20231130T122823Z
LAST-MODIFIED:20231130T122823Z
UID:11469-1701961200-1701968400@icar.cnrs.fr
SUMMARY:Prochaine séance du séminaire de l’équipe « Syntaxe\, Sens et Textualités »
DESCRIPTION:La prochaine séance du séminaire de l’équipe Syntaxe\, Sens et Textualités est organisée jeudi 7 décembre 2023\, de 15h à 17h. \nTrois interventions de doctorant.e.s de l’équipe sont au programme : \n\n\n Alice Brenon : Fonction discursive de paragraphes dans deux encyclopédies françaises ;\n \n\n\nJean-Baptiste Chaudron : Identification of Writing preferences in Wikipedia ;\n \n\nGhayoung Kahng : Propositions pour automatiser l’extraction et le classement de séquences candidates à la catégorie des prépositions complexes en français.\n\n\nLa séance se déroulera en salle D4.179 des locaux d’ICAR et en visioconférence. Le lien de connexion a été transmis via la liste de diffusion ASLAN le 28 novembre 2023. \nContact : Denis Vigier
URL:https://icar.cnrs.fr/agenda/prochaine-seance-du-seminaire-de-lequipe-syntaxe-sens-et-textualites/
END:VEVENT
BEGIN:VEVENT
DTSTART;TZID=UTC:20231207T160000
DTEND;TZID=UTC:20231207T173000
DTSTAMP:20260420T075204
CREATED:20231130T122511Z
LAST-MODIFIED:20231130T122511Z
UID:11465-1701964800-1701970200@icar.cnrs.fr
SUMMARY:Prochaine séance du séminaire de l'équipe "Interactions\, Cognitions"
DESCRIPTION:La prochaine séance du séminaire de l’équipe Interactions\, Cognitions aura pour intervenant Pier Francesco Ferrari (DR CNRS\, ISC Marc Jeannerod). \nIntitulé de l’intervention : Ethology and neurobiology of early communication in human and nonhuman primates. Same but different \nLa séance est organisée jeudi 7 décembre 2023\, à partir de 16h\, en salle D4.195 des locaux d’ICAR et via l’outil Zoom-CNRS. \nLe lien de connexion a été diffusé via les listes du laboratoire le jeudi 30 novembre. \nContact : Heike Baldauf
URL:https://icar.cnrs.fr/agenda/prochaine-seance-du-seminaire-de-lequipe-interactions-cognitions-3/
END:VEVENT
BEGIN:VEVENT
DTSTART;TZID=UTC:20231214T084500
DTEND;TZID=UTC:20231214T190000
DTSTAMP:20260420T075204
CREATED:20231011T100601Z
LAST-MODIFIED:20231130T141710Z
UID:11247-1702543500-1702580400@icar.cnrs.fr
SUMMARY:Célébration des vingt ans d’ICAR
DESCRIPTION:À l’occasion des vingt ans du laboratoire ICAR\, la direction convie l’ensemble des membres dans un cadre à la fois commémoratif et festif\, jeudi 14 décembre 2023. \nUn espace à l’extérieur de nos établissements a été réservé à cet effet : le Centre de congrès et séminaire Valpré (1 chemin de Chalin –  69130 Écully : 15 minutes à pied depuis le métro D Valmy\, 1\,4 km ; 15-20 min en voiture du centre-ville\, parking gratuit sur place ; 1 bus direct ligne 19\, depuis Hôtel de ville ou Gorge de loup). \nLe programme prévisionnel est le suivant : \n\n8h45 Café d’accueil\n9h15 Mot d’ouverture\n9h45 Hommage à Didier Bottineau\n10h30 : Hommage à Peter Griggs\n11h15 Pause café\n11h45 Projection témoignage vidéo (doctorants\, docteurs inclus)\n12h15 Buffet / fresque des 20 ans\n14h Paroles des invités\n14h30 Cartographie des projets en cours (dont thèses)\n16h Pause café\n16h15 Remue-méninges à propos du futur d’ICAR\n17h45 Cocktail + moment musical\n\nNous vous remercions donc par avance de votre collaboration et de votre participation dans les différents événements prévus durant la journée. \nContact : Lucie Bujon
URL:https://icar.cnrs.fr/agenda/celebration-des-vingt-ans-dicar/
END:VEVENT
END:VCALENDAR