BEGIN:VCALENDAR
VERSION:2.0
PRODID:-//ICAR - ECPv6.15.17//NONSGML v1.0//EN
CALSCALE:GREGORIAN
METHOD:PUBLISH
X-ORIGINAL-URL:https://icar.cnrs.fr
X-WR-CALDESC:Évènements pour ICAR
REFRESH-INTERVAL;VALUE=DURATION:PT1H
X-Robots-Tag:noindex
X-PUBLISHED-TTL:PT1H
BEGIN:VTIMEZONE
TZID:UTC
BEGIN:STANDARD
TZOFFSETFROM:+0000
TZOFFSETTO:+0000
TZNAME:UTC
DTSTART:20250101T000000
END:STANDARD
END:VTIMEZONE
BEGIN:VEVENT
DTSTART;TZID=UTC:20260424T093000
DTEND;TZID=UTC:20260424T123000
DTSTAMP:20260422T105328
CREATED:20250415T124232Z
LAST-MODIFIED:20250415T124232Z
UID:13818-1777023000-1777033800@icar.cnrs.fr
SUMMARY:Prochaine séance du séminaire ADIS
DESCRIPTION:La prochaine séance du séminaire ADIS se tiendra ce vendredi 24 avril à 9h30\, salle D4.179 \n\n\nContact : Jean-François Grassin \n 
URL:https://icar.cnrs.fr/agenda/prochaine-seance-du-seminaire-adis-9/
END:VEVENT
BEGIN:VEVENT
DTSTART;TZID=UTC:20260424T143000
DTEND;TZID=UTC:20260424T170000
DTSTAMP:20260422T105328
CREATED:20250922T125043Z
LAST-MODIFIED:20260112T114816Z
UID:17429-1777041000-1777050000@icar.cnrs.fr
SUMMARY:Prochaine séance du séminaire de l’équipe SST : Syntaxe\, Sens et Textualités
DESCRIPTION:La prochaine séance du séminaire de l’équipe Syntaxe\, Sens et Textualités est organisée. \n \nLa séance se déroulera  vendredi 24 avril 2026 de 14h30 à 17h\, en salle D4.179 des locaux d’ICAR.Le réunion d’équipe se déroulera de 14h30 – 15h.\n\n\n  \nW. de Mulder (U. Anvers\, Belgique) Comment analyser la polysémie des prépositions ?  \n\n\nDans cette communication\, nous partirons d’une présentation critique de l’analyse des sens spatiaux de la préposition sur par Vandeloise pour nous demander (i) comment on peut analyser les emplois non spatiaux de cette préposition et si la prise en compte de ces emplois oblige à revoir l’analyse du sens spatial en termes d’une ressemblance de famille porteur/porté\, comme le propose Vandeloise\, et (ii) comment on peut rendre compte des rapports entre les différents sens de la préposition : en termes de transferts métaphoriques\, de glissements métonymiques\, ou en servant d’une autre conception « dynamique » du sens. \nQuelques références \nAmiot D. (2005). Sur(-) préposition et préfixe: un même sens instructionnel? Revue de Sémantique et Pragmatique 15/16\, 101-119. \nCol G. (2017). Construction du sens : un modèle instructionnel pour la sémantique. Berne : Peter Lang. \nDesclés J.-P. (2004). Analyse syntaxique et cognitive des relations entre la préposition sur et le préverbe sur– en français. Etudes cognitives 6\, 21-46. \nFortis J.-M. (2009). Les adpositions spatiales et le problème de la polysémie. In : J. François\, E. Gilbert\, C. Guimier & M. Krause\, éds. Autour de la préposition. Caen : Presses Universitaires de Caen\, 183-193. \nLangacker\, R. (2006). On the continuous debate about discreteness. Cognitive Linguistics 17(1)\, 105-151. \nTaylor J.R. (2003). Linguistic Categorization. Third edition. Oxford : Oxfrod University Press. \nVandeloise C. (1986). L’espace en français : sémantique des prépositions spatiales. Paris : Editions du seuil. \nVandeloise C. (1991). Spatial prepositions : A case study in French. Chicago : The University of Chicago Press. \nVictorii B. & Fuchs C. (1996). La polysémie. Construction dynamique du sens. Paris : Hermes. \nVictorri B. (2003). Langage et géométrie : l’expression langagière des relations spatiales. Revue de synthèse124\, 119-138. \n  \nL. Ménière (ENS Lyon / ICAR) La synesthésie comme marqueur linguistique : avancées expérimentales et réorientations méthodologiques \nCette présentation portera sur l’avancée de ma recherche doctorale consacrée à la synesthésie graphèmes-couleurs envisagée comme un marqueur linguistique. J’y présenterai les premiers résultats issus de l’expérimentation conduite au cours de l’année écoulée\, en soulignant les ajustements méthodologiques et les changements d’orientation qui en ont découlé. L’exposé visera à montrer comment les données recueillies contribuent à repenser le statut linguistique de la synesthésie et à préciser ses implications pour l’analyse du rapport entre perception et langage. \n  \nS. Guillen (ENS Lyon / ICAR)  : Sémiotique du mythe. Présentation par l’auteur de son ouvrage. \nSantiago GUILLÉN\, Sémiotique du mythe\, Classiques Garnier\, collection « Sémiotiques » dirigée par Astrid Guillaume\, maître de conférences avec HDR à Sorbonne Université\, 2026. https://classiques-garnier.com/semiotique-du-mythe.html \nLe mythe peut être appréhendé comme notion et forme discursive en sciences du langage et en sémiotique. Des lectures critiques (1858-2025) de courants variés (pré-saussuriens\, structuralistes\, etc.) permettent de proposer des cadres théoriques et méthodologiques pour étudier les mythes contemporains. \n\n\n\n\nContacter les organisateurs pour le lien Zoom.\nContact : Denis Vigier\, Jean-Philippe Magué
URL:https://icar.cnrs.fr/agenda/prochaine-seance-du-seminaire-de-lequipe-sst-syntaxe-sens-et-textualites-8/
END:VEVENT
BEGIN:VEVENT
DTSTART;TZID=UTC:20260430T100000
DTEND;TZID=UTC:20260430T120000
DTSTAMP:20260422T105328
CREATED:20250930T135447Z
LAST-MODIFIED:20260203T184232Z
UID:17530-1777543200-1777550400@icar.cnrs.fr
SUMMARY:Prochaine séance des "Rencontres méthodo" d'ICAR
DESCRIPTION:La prochaine séance  aura lieu le jeudi 30 avril de 10h à 12h en salle D4.179. \n\n\nInterventante : Jean François Grassin et Christine Develotte \nContact : Léa Mouton\, Julien Thiburce
URL:https://icar.cnrs.fr/agenda/prochaine-seance-des-rencontres-methodo-dicar-3/
END:VEVENT
END:VCALENDAR